BEGIN:VCALENDAR
VERSION:2.0
PRODID:-//Eben-Ezer Haitian Baptist Church of Westbury - ECPv5.3.1.1//NONSGML v1.0//EN
CALSCALE:GREGORIAN
METHOD:PUBLISH
X-WR-CALNAME:Eben-Ezer Haitian Baptist Church of Westbury
X-ORIGINAL-URL:https://ebenezerofwestbury.org
X-WR-CALDESC:Events for Eben-Ezer Haitian Baptist Church of Westbury
BEGIN:VTIMEZONE
TZID:America/New_York
BEGIN:DAYLIGHT
TZOFFSETFROM:-0500
TZOFFSETTO:-0400
TZNAME:EDT
DTSTART:20260308T070000
END:DAYLIGHT
BEGIN:STANDARD
TZOFFSETFROM:-0400
TZOFFSETTO:-0500
TZNAME:EST
DTSTART:20261101T060000
END:STANDARD
END:VTIMEZONE
BEGIN:VEVENT
DTSTART;TZID=America/New_York:20261230T190000
DTEND;TZID=America/New_York:20261230T210000
DTSTAMP:20260424T113114
CREATED:20260111T214218Z
LAST-MODIFIED:20260218T231932Z
UID:10298-1798657200-1798664400@ebenezerofwestbury.org
SUMMARY:Bible Study
DESCRIPTION:Weekly In-Person Bible Study \nEben-Ezer Haitian Baptist Church of Westbury\n859 Prospect Ave\nWestbury\, NY 11590 \nDownload Premium WordPress Themes FreePremium WordPress Themes DownloadDownload Best WordPress Themes Free DownloadDownload Best WordPress Themes Free DownloadZG93bmxvYWQgbHluZGEgY291cnNlIGZyZWU=download coolpad firmwareDownload Premium WordPress Themes Free
URL:https://ebenezerofwestbury.org/index.php/event/bible-study/2026-12-30/
LOCATION:Eben-Ezer Haitian Baptist Church of Westbury\, 859 Prospect Ave\, Westbury\, NY\, 11590\, United States
CATEGORIES:Meetings
ATTACH;FMTTYPE=image/jpeg:https://ebenezerofwestbury.org/wp-content/uploads/2026/01/Website-Bible-Study.jpg
ORGANIZER;CN="Eben-Ezer%20Haitian%20Baptist%20Church%20of%20Westbury":MAILTO:info@ebenezerofwestbury.org
END:VEVENT
END:VCALENDAR